Package: ASpediaFI Version: 1.12.0 Command: /Library/Frameworks/R.framework/Resources/bin/R CMD INSTALL ASpediaFI StartedAt: 2023-04-16 19:05:15 -0400 (Sun, 16 Apr 2023) EndedAt: 2023-04-16 19:05:16 -0400 (Sun, 16 Apr 2023) EllapsedTime: 0.4 seconds RetCode: 1 Status: ERROR