Package: AllelicImbalance Version: 1.36.0 Command: rm -rf AllelicImbalance.buildbin-libdir && mkdir AllelicImbalance.buildbin-libdir && /Users/biocbuild/BBS/utils/build-universal.sh AllelicImbalance_1.36.0.tar.gz /Library/Frameworks/R.framework/Resources/bin/R AllelicImbalance.buildbin-libdir StartedAt: 2023-04-18 13:31:58 -0400 (Tue, 18 Apr 2023) EndedAt: 2023-04-18 13:34:10 -0400 (Tue, 18 Apr 2023) EllapsedTime: 131.7 seconds RetCode: 0 Status: OK PackageFile: AllelicImbalance_1.36.0.tgz PackageFileSize: 1.227 MiB