Package: AnnotationForge Version: 1.40.2 Command: /Library/Frameworks/R.framework/Resources/bin/R CMD INSTALL AnnotationForge StartedAt: 2023-04-16 15:12:31 -0400 (Sun, 16 Apr 2023) EndedAt: 2023-04-16 15:13:04 -0400 (Sun, 16 Apr 2023) EllapsedTime: 33.4 seconds RetCode: 0 Status: OK