##############################################################################
##############################################################################
###
### Running command:
###
###   /Library/Frameworks/R.framework/Resources/bin/R CMD build --keep-empty-dirs --no-resave-data ArrayExpressHTS
###
##############################################################################
##############################################################################


* checking for file ‘ArrayExpressHTS/DESCRIPTION’ ... OK
* preparing ‘ArrayExpressHTS’:
* checking DESCRIPTION meta-information ... OK
* cleaning src
* installing the package to build vignettes
      -----------------------------------
* installing *source* package ‘ArrayExpressHTS’ ...
** using staged installation
** libs
clang -arch arm64 -I"/Library/Frameworks/R.framework/Resources/include" -DNDEBUG -D_FILE_OFFSET_BITS=64 -I'/Library/Frameworks/R.framework/Versions/4.2-arm64/Resources/library/Rhtslib/include' -I/opt/R/arm64/include   -fPIC  -falign-functions=64 -Wall -g -O2  -c addXS.c -o addXS.o
addXS.c:42:5: error: implicit declaration of function 'Rprintf' is invalid in C99 [-Werror,-Wimplicit-function-declaration]
    Rprintf("What?\n");
    ^
1 error generated.
make: *** [addXS.o] Error 1
ERROR: compilation failed for package ‘ArrayExpressHTS’
* removing ‘/private/tmp/RtmpQorSoQ/Rinst18eb35f54672/ArrayExpressHTS’
      -----------------------------------
ERROR: package installation failed