Package: BASiCS Version: 2.10.5 Command: rm -rf BASiCS.buildbin-libdir && mkdir BASiCS.buildbin-libdir && /Users/biocbuild/BBS/utils/build-universal.sh BASiCS_2.10.5.tar.gz /Library/Frameworks/R.framework/Resources/bin/R BASiCS.buildbin-libdir StartedAt: 2023-04-18 13:46:02 -0400 (Tue, 18 Apr 2023) EndedAt: 2023-04-18 13:49:02 -0400 (Tue, 18 Apr 2023) EllapsedTime: 180.1 seconds RetCode: 0 Status: OK PackageFile: BASiCS_2.10.5.tgz PackageFileSize: 3.676 MiB