Package: BASiCS Version: 2.10.5 Command: /Library/Frameworks/R.framework/Resources/bin/R CMD build --keep-empty-dirs --no-resave-data BASiCS StartedAt: 2023-04-16 20:49:26 -0400 (Sun, 16 Apr 2023) EndedAt: 2023-04-16 20:51:22 -0400 (Sun, 16 Apr 2023) EllapsedTime: 116.7 seconds RetCode: 0 Status: OK PackageFile: BASiCS_2.10.5.tar.gz PackageFileSize: 3.059 MiB