Package: BASiCS Version: 2.10.5 Command: /Library/Frameworks/R.framework/Resources/bin/R CMD INSTALL BASiCS StartedAt: 2023-04-16 17:39:40 -0400 (Sun, 16 Apr 2023) EndedAt: 2023-04-16 17:41:37 -0400 (Sun, 16 Apr 2023) EllapsedTime: 117.1 seconds RetCode: 0 Status: OK