Package: BLMA Version: 1.22.0 Command: /Library/Frameworks/R.framework/Resources/bin/R CMD build --keep-empty-dirs --no-resave-data BLMA StartedAt: 2023-04-16 22:17:59 -0400 (Sun, 16 Apr 2023) EndedAt: 2023-04-16 22:23:07 -0400 (Sun, 16 Apr 2023) EllapsedTime: 307.1 seconds RetCode: 0 Status: OK PackageFile: BLMA_1.22.0.tar.gz PackageFileSize: 2.825 MiB