Package: BPRMeth Version: 1.24.2 Command: rm -rf BPRMeth.buildbin-libdir && mkdir BPRMeth.buildbin-libdir && /Users/biocbuild/BBS/utils/build-universal.sh BPRMeth_1.24.2.tar.gz /Library/Frameworks/R.framework/Resources/bin/R BPRMeth.buildbin-libdir StartedAt: 2023-04-18 14:04:54 -0400 (Tue, 18 Apr 2023) EndedAt: 2023-04-18 14:06:18 -0400 (Tue, 18 Apr 2023) EllapsedTime: 83.5 seconds RetCode: 0 Status: OK PackageFile: BPRMeth_1.24.2.tgz PackageFileSize: 3.587 MiB