Package: BUMHMM Version: 1.22.0 Command: /Library/Frameworks/R.framework/Resources/bin/R CMD INSTALL BUMHMM StartedAt: 2023-04-16 15:40:43 -0400 (Sun, 16 Apr 2023) EndedAt: 2023-04-16 15:41:25 -0400 (Sun, 16 Apr 2023) EllapsedTime: 41.8 seconds RetCode: 0 Status: OK