##############################################################################
##############################################################################
###
### Running command:
###
###   /Library/Frameworks/R.framework/Resources/bin/R CMD build --keep-empty-dirs --no-resave-data BUSpaRse
###
##############################################################################
##############################################################################


* checking for file ‘BUSpaRse/DESCRIPTION’ ... OK
* preparing ‘BUSpaRse’:
* checking DESCRIPTION meta-information ... OK
* cleaning src
* installing the package to build vignettes
* creating vignettes ... OK
* cleaning src
* checking for LF line-endings in source and make files and shell scripts
* checking for empty or unneeded directories
* building ‘BUSpaRse_1.12.2.tar.gz’