Package: BadRegionFinder Version: 1.26.0 Command: rm -rf BadRegionFinder.buildbin-libdir && mkdir BadRegionFinder.buildbin-libdir && /Users/biocbuild/BBS/utils/build-universal.sh BadRegionFinder_1.26.0.tar.gz /Library/Frameworks/R.framework/Resources/bin/R BadRegionFinder.buildbin-libdir StartedAt: 2023-04-18 13:43:13 -0400 (Tue, 18 Apr 2023) EndedAt: 2023-04-18 13:44:56 -0400 (Tue, 18 Apr 2023) EllapsedTime: 102.9 seconds RetCode: 0 Status: OK PackageFile: BadRegionFinder_1.26.0.tgz PackageFileSize: 925.9 KiB