Package: BadRegionFinder Version: 1.26.0 Command: /Library/Frameworks/R.framework/Resources/bin/R CMD build --keep-empty-dirs --no-resave-data BadRegionFinder StartedAt: 2023-04-16 20:33:08 -0400 (Sun, 16 Apr 2023) EndedAt: 2023-04-16 20:34:35 -0400 (Sun, 16 Apr 2023) EllapsedTime: 86.9 seconds RetCode: 0 Status: OK PackageFile: BadRegionFinder_1.26.0.tar.gz PackageFileSize: 832.7 KiB