Package: BadRegionFinder Version: 1.26.0 Command: /Library/Frameworks/R.framework/Resources/bin/R CMD INSTALL BadRegionFinder StartedAt: 2023-04-16 16:41:44 -0400 (Sun, 16 Apr 2023) EndedAt: 2023-04-16 16:42:56 -0400 (Sun, 16 Apr 2023) EllapsedTime: 71.4 seconds RetCode: 0 Status: OK