Package: BioMM Version: 1.14.0 Command: /Library/Frameworks/R.framework/Resources/bin/R CMD build --keep-empty-dirs --no-resave-data BioMM StartedAt: 2023-04-16 21:57:52 -0400 (Sun, 16 Apr 2023) EndedAt: 2023-04-16 22:01:09 -0400 (Sun, 16 Apr 2023) EllapsedTime: 197.0 seconds RetCode: 0 Status: OK PackageFile: BioMM_1.14.0.tar.gz PackageFileSize: 2.844 MiB