Package: BiocFileCache Version: 2.6.1 Command: /Library/Frameworks/R.framework/Resources/bin/R CMD INSTALL BiocFileCache StartedAt: 2023-04-16 15:05:09 -0400 (Sun, 16 Apr 2023) EndedAt: 2023-04-16 15:05:21 -0400 (Sun, 16 Apr 2023) EllapsedTime: 12.2 seconds RetCode: 0 Status: OK