Package: BiocSet Version: 1.12.1 Command: rm -rf BiocSet.buildbin-libdir && mkdir BiocSet.buildbin-libdir && /Users/biocbuild/BBS/utils/build-universal.sh BiocSet_1.12.1.tar.gz /Library/Frameworks/R.framework/Resources/bin/R BiocSet.buildbin-libdir StartedAt: 2023-04-18 13:56:40 -0400 (Tue, 18 Apr 2023) EndedAt: 2023-04-18 13:57:24 -0400 (Tue, 18 Apr 2023) EllapsedTime: 44.1 seconds RetCode: 0 Status: OK PackageFile: BiocSet_1.12.1.tgz PackageFileSize: 762.9 KiB