Package: BiocWorkflowTools Version: 1.24.0 Command: /Library/Frameworks/R.framework/Resources/bin/R CMD build --keep-empty-dirs --no-resave-data BiocWorkflowTools StartedAt: 2023-04-16 21:54:32 -0400 (Sun, 16 Apr 2023) EndedAt: 2023-04-16 21:54:41 -0400 (Sun, 16 Apr 2023) EllapsedTime: 8.1 seconds RetCode: 0 Status: OK PackageFile: BiocWorkflowTools_1.24.0.tar.gz PackageFileSize: 974.8 KiB