Package: BiocWorkflowTools Version: 1.24.0 Command: /Library/Frameworks/R.framework/Resources/bin/R CMD INSTALL BiocWorkflowTools StartedAt: 2023-04-16 15:00:23 -0400 (Sun, 16 Apr 2023) EndedAt: 2023-04-16 15:00:30 -0400 (Sun, 16 Apr 2023) EllapsedTime: 7.7 seconds RetCode: 0 Status: OK