git_url: https://git.bioconductor.org/packages/CAEN
git_branch: RELEASE_3_16
git_last_commit: ceea9cc
git_last_commit_date: 2022-11-01 11:23:43 -0400 (Tue, 01 Nov 2022)
Package: CAEN
Version: 1.6.0
Maintainer: Zhou Yan
MaintainerEmail: 2160090406 at email.szu.edu.cn