Package: CAEN Version: 1.6.0 Command: rm -rf CAEN.buildbin-libdir && mkdir CAEN.buildbin-libdir && /Users/biocbuild/BBS/utils/build-universal.sh CAEN_1.6.0.tar.gz /Library/Frameworks/R.framework/Resources/bin/R CAEN.buildbin-libdir StartedAt: 2023-04-18 14:09:50 -0400 (Tue, 18 Apr 2023) EndedAt: 2023-04-18 14:10:45 -0400 (Tue, 18 Apr 2023) EllapsedTime: 55.6 seconds RetCode: 0 Status: OK PackageFile: CAEN_1.6.0.tgz PackageFileSize: 1.601 MiB