Package: CAFE Version: 1.34.0 Command: /Library/Frameworks/R.framework/Resources/bin/R CMD build --keep-empty-dirs --no-resave-data CAFE StartedAt: 2023-04-16 22:43:27 -0400 (Sun, 16 Apr 2023) EndedAt: 2023-04-16 22:45:04 -0400 (Sun, 16 Apr 2023) EllapsedTime: 97.1 seconds RetCode: 0 Status: OK PackageFile: CAFE_1.34.0.tar.gz PackageFileSize: 4.629 MiB