Package: CGHcall Version: 2.60.0 Command: rm -rf CGHcall.buildbin-libdir && mkdir CGHcall.buildbin-libdir && /Users/biocbuild/BBS/utils/build-universal.sh CGHcall_2.60.0.tar.gz /Library/Frameworks/R.framework/Resources/bin/R CGHcall.buildbin-libdir StartedAt: 2023-04-18 14:21:45 -0400 (Tue, 18 Apr 2023) EndedAt: 2023-04-18 14:22:01 -0400 (Tue, 18 Apr 2023) EllapsedTime: 15.4 seconds RetCode: 0 Status: OK PackageFile: CGHcall_2.60.0.tgz PackageFileSize: 530.6 KiB