Package: CGHcall Version: 2.60.0 Command: /Library/Frameworks/R.framework/Resources/bin/R CMD build --keep-empty-dirs --no-resave-data CGHcall StartedAt: 2023-04-16 23:44:01 -0400 (Sun, 16 Apr 2023) EndedAt: 2023-04-16 23:44:27 -0400 (Sun, 16 Apr 2023) EllapsedTime: 26.1 seconds RetCode: 0 Status: OK PackageFile: CGHcall_2.60.0.tar.gz PackageFileSize: 451 KiB