Package: CGHcall Version: 2.60.0 Command: /Library/Frameworks/R.framework/Resources/bin/R CMD INSTALL CGHcall StartedAt: 2023-04-16 14:36:22 -0400 (Sun, 16 Apr 2023) EndedAt: 2023-04-16 14:36:30 -0400 (Sun, 16 Apr 2023) EllapsedTime: 8.8 seconds RetCode: 0 Status: OK