Package: CGHregions Version: 1.56.0 Command: /Library/Frameworks/R.framework/Resources/bin/R CMD build --keep-empty-dirs --no-resave-data CGHregions StartedAt: 2023-04-16 23:45:51 -0400 (Sun, 16 Apr 2023) EndedAt: 2023-04-16 23:46:04 -0400 (Sun, 16 Apr 2023) EllapsedTime: 13.3 seconds RetCode: 0 Status: OK PackageFile: CGHregions_1.56.0.tar.gz PackageFileSize: 212.7 KiB