Package: CIMICE Version: 1.6.0 Command: rm -rf CIMICE.buildbin-libdir && mkdir CIMICE.buildbin-libdir && /Users/biocbuild/BBS/utils/build-universal.sh CIMICE_1.6.0.tar.gz /Library/Frameworks/R.framework/Resources/bin/R CIMICE.buildbin-libdir StartedAt: 2023-04-18 14:30:55 -0400 (Tue, 18 Apr 2023) EndedAt: 2023-04-18 14:31:21 -0400 (Tue, 18 Apr 2023) EllapsedTime: 26.4 seconds RetCode: 0 Status: OK PackageFile: CIMICE_1.6.0.tgz PackageFileSize: 1.202 MiB