Package: CIMICE Version: 1.6.0 Command: /Library/Frameworks/R.framework/Resources/bin/R CMD build --keep-empty-dirs --no-resave-data CIMICE StartedAt: 2023-04-17 00:20:56 -0400 (Mon, 17 Apr 2023) EndedAt: 2023-04-17 00:21:30 -0400 (Mon, 17 Apr 2023) EllapsedTime: 34.0 seconds RetCode: 0 Status: OK PackageFile: CIMICE_1.6.0.tar.gz PackageFileSize: 1.483 MiB