git_url: https://git.bioconductor.org/packages/CINdex
git_branch: RELEASE_3_16
git_last_commit: e6a247a
git_last_commit_date: 2022-11-01 11:13:24 -0400 (Tue, 01 Nov 2022)
Package: CINdex
Version: 1.26.0
Maintainer: Yuriy Gusev
MaintainerEmail: yg63 at georgetown.edu