Package: CMA Version: 1.56.0 Command: /Library/Frameworks/R.framework/Resources/bin/R CMD build --keep-empty-dirs --no-resave-data CMA StartedAt: 2023-04-17 00:48:49 -0400 (Mon, 17 Apr 2023) EndedAt: 2023-04-17 00:49:24 -0400 (Mon, 17 Apr 2023) EllapsedTime: 35.5 seconds RetCode: 0 Status: OK PackageFile: CMA_1.56.0.tar.gz PackageFileSize: 1.21 MiB