Package: CeTF Version: 1.10.2 Command: /Library/Frameworks/R.framework/Resources/bin/R CMD build --keep-empty-dirs --no-resave-data CeTF StartedAt: 2023-04-16 23:38:23 -0400 (Sun, 16 Apr 2023) EndedAt: 2023-04-16 23:41:31 -0400 (Sun, 16 Apr 2023) EllapsedTime: 187.6 seconds RetCode: 0 Status: OK PackageFile: CeTF_1.10.2.tar.gz PackageFileSize: 3.693 MiB