Package: CellMixS Version: 1.14.0 Command: rm -rf CellMixS.buildbin-libdir && mkdir CellMixS.buildbin-libdir && /Users/biocbuild/BBS/utils/build-universal.sh CellMixS_1.14.0.tar.gz /Library/Frameworks/R.framework/Resources/bin/R CellMixS.buildbin-libdir StartedAt: 2023-04-18 14:19:07 -0400 (Tue, 18 Apr 2023) EndedAt: 2023-04-18 14:20:10 -0400 (Tue, 18 Apr 2023) EllapsedTime: 62.6 seconds RetCode: 0 Status: OK PackageFile: CellMixS_1.14.0.tgz PackageFileSize: 3.919 MiB