git_url: https://git.bioconductor.org/packages/CellScore git_branch: RELEASE_3_16 git_last_commit: da4bc20 git_last_commit_date: 2022-11-01 11:17:10 -0400 (Tue, 01 Nov 2022) Package: CellScore Version: 1.18.0 Maintainer: Nancy Mah MaintainerEmail: nancy.l.mah at googlemail.com