Package: CellScore Version: 1.18.0 Command: rm -rf CellScore.buildbin-libdir && mkdir CellScore.buildbin-libdir && /Users/biocbuild/BBS/utils/build-universal.sh CellScore_1.18.0.tar.gz /Library/Frameworks/R.framework/Resources/bin/R CellScore.buildbin-libdir StartedAt: 2023-04-18 14:19:28 -0400 (Tue, 18 Apr 2023) EndedAt: 2023-04-18 14:19:40 -0400 (Tue, 18 Apr 2023) EllapsedTime: 11.8 seconds RetCode: 0 Status: OK PackageFile: CellScore_1.18.0.tgz PackageFileSize: 4.26 MiB