Package: CellScore Version: 1.18.0 Command: /Library/Frameworks/R.framework/Resources/bin/R CMD build --keep-empty-dirs --no-resave-data CellScore StartedAt: 2023-04-16 23:30:48 -0400 (Sun, 16 Apr 2023) EndedAt: 2023-04-16 23:33:59 -0400 (Sun, 16 Apr 2023) EllapsedTime: 191.2 seconds RetCode: 0 Status: OK PackageFile: CellScore_1.18.0.tar.gz PackageFileSize: 4.179 MiB