Package: CellScore Version: 1.18.0 Command: /Library/Frameworks/R.framework/Resources/bin/R CMD INSTALL CellScore StartedAt: 2023-04-16 14:21:56 -0400 (Sun, 16 Apr 2023) EndedAt: 2023-04-16 14:22:03 -0400 (Sun, 16 Apr 2023) EllapsedTime: 7.0 seconds RetCode: 0 Status: OK