Package: CluMSID Version: 1.14.0 Command: rm -rf CluMSID.buildbin-libdir && mkdir CluMSID.buildbin-libdir && /Users/biocbuild/BBS/utils/build-universal.sh CluMSID_1.14.0.tar.gz /Library/Frameworks/R.framework/Resources/bin/R CluMSID.buildbin-libdir StartedAt: 2023-04-18 14:35:05 -0400 (Tue, 18 Apr 2023) EndedAt: 2023-04-18 14:36:03 -0400 (Tue, 18 Apr 2023) EllapsedTime: 58.3 seconds RetCode: 0 Status: OK PackageFile: CluMSID_1.14.0.tgz PackageFileSize: 4.168 MiB