Package: ConsensusClusterPlus Version: 1.62.0 Command: rm -rf ConsensusClusterPlus.buildbin-libdir && mkdir ConsensusClusterPlus.buildbin-libdir && /Users/biocbuild/BBS/utils/build-universal.sh ConsensusClusterPlus_1.62.0.tar.gz /Library/Frameworks/R.framework/Resources/bin/R ConsensusClusterPlus.buildbin-libdir StartedAt: 2023-04-18 14:44:50 -0400 (Tue, 18 Apr 2023) EndedAt: 2023-04-18 14:44:59 -0400 (Tue, 18 Apr 2023) EllapsedTime: 8.8 seconds RetCode: 0 Status: OK PackageFile: ConsensusClusterPlus_1.62.0.tgz PackageFileSize: 415.7 KiB