Package: CopyNumberPlots Version: 1.14.0 Command: rm -rf CopyNumberPlots.buildbin-libdir && mkdir CopyNumberPlots.buildbin-libdir && /Users/biocbuild/BBS/utils/build-universal.sh CopyNumberPlots_1.14.0.tar.gz /Library/Frameworks/R.framework/Resources/bin/R CopyNumberPlots.buildbin-libdir StartedAt: 2023-04-18 14:46:57 -0400 (Tue, 18 Apr 2023) EndedAt: 2023-04-18 14:49:41 -0400 (Tue, 18 Apr 2023) EllapsedTime: 163.9 seconds RetCode: 0 Status: OK PackageFile: CopyNumberPlots_1.14.0.tgz PackageFileSize: 1.837 MiB