Package: CopyNumberPlots Version: 1.14.0 Command: /Library/Frameworks/R.framework/Resources/bin/R CMD build --keep-empty-dirs --no-resave-data CopyNumberPlots StartedAt: 2023-04-17 01:32:39 -0400 (Mon, 17 Apr 2023) EndedAt: 2023-04-17 01:34:31 -0400 (Mon, 17 Apr 2023) EllapsedTime: 112.4 seconds RetCode: 0 Status: OK PackageFile: CopyNumberPlots_1.14.0.tar.gz PackageFileSize: 1.712 MiB