Package: CopyNumberPlots Version: 1.14.0 Command: /Library/Frameworks/R.framework/Resources/bin/R CMD INSTALL CopyNumberPlots StartedAt: 2023-04-16 17:08:08 -0400 (Sun, 16 Apr 2023) EndedAt: 2023-04-16 17:09:52 -0400 (Sun, 16 Apr 2023) EllapsedTime: 104.4 seconds RetCode: 0 Status: OK