Package: CopywriteR Version: 2.30.0 Command: /Library/Frameworks/R.framework/Resources/bin/R CMD build --keep-empty-dirs --no-resave-data CopywriteR StartedAt: 2023-04-17 01:34:31 -0400 (Mon, 17 Apr 2023) EndedAt: 2023-04-17 01:36:16 -0400 (Mon, 17 Apr 2023) EllapsedTime: 105.1 seconds RetCode: 0 Status: OK PackageFile: CopywriteR_2.30.0.tar.gz PackageFileSize: 242.6 KiB