Package: CopywriteR Version: 2.30.0 Command: /Library/Frameworks/R.framework/Resources/bin/R CMD INSTALL CopywriteR StartedAt: 2023-04-16 16:10:05 -0400 (Sun, 16 Apr 2023) EndedAt: 2023-04-16 16:10:44 -0400 (Sun, 16 Apr 2023) EllapsedTime: 39.1 seconds RetCode: 0 Status: OK