Package: CyTOFpower Version: 1.4.0 Command: /Library/Frameworks/R.framework/Resources/bin/R CMD INSTALL CyTOFpower StartedAt: 2023-04-16 18:44:14 -0400 (Sun, 16 Apr 2023) EndedAt: 2023-04-16 18:44:24 -0400 (Sun, 16 Apr 2023) EllapsedTime: 10.1 seconds RetCode: 0 Status: OK