Back to Mac ARM64 build report for BioC 3.16 |
|
This page was generated on 2023-04-19 11:01:48 -0400 (Wed, 19 Apr 2023).
Hostname | OS | Arch (*) | R version | Installed pkgs |
---|---|---|---|---|
kjohnson | macOS 13.0 Ventura | arm64 | 4.2.2 (2022-10-31) -- "Innocent and Trusting" | 4256 |
Click on any hostname to see more info about the system (e.g. compilers) (*) as reported by 'uname -p', except on Windows and Mac OS X |
To the developers/maintainers of the DECIPHER package: Make sure to use the following settings in order to reproduce any error or warning you see on this page. |
Package 487/2183 | Hostname | OS / Arch | INSTALL | BUILD | BUILD BIN | ||||||||
DECIPHER 2.26.0 (landing page) Erik Wright
| kjohnson | macOS 13.0 Ventura / arm64 | OK | OK | OK | ![]() | |||||||
QUICK STATS | OS / Arch | INSTALL | BUILD | BUILD BIN | |||||||||||||
kjohnson | macOS 13.0 Ventura / arm64 |
|
|
| |||||||||||||
Package 1/6 | Hostname | OS / Arch | INSTALL | BUILD | BUILD BIN | ||||||||||||
AssessORF 1.16.0 (landing page) Deepank Korandla
| kjohnson | macOS 13.0 Ventura / arm64 | OK | OK | OK | ![]() | |||||||||||
Package 2/6 | Hostname | OS / Arch | INSTALL | BUILD | BUILD BIN | ||||||||||||
mia 1.6.0 (landing page) Tuomas Borman
| kjohnson | macOS 13.0 Ventura / arm64 | OK | OK | OK | ![]() | |||||||||||
Package 3/6 | Hostname | OS / Arch | INSTALL | BUILD | BUILD BIN | ||||||||||||
openPrimeR 1.20.0 (landing page) Matthias Döring
| kjohnson | macOS 13.0 Ventura / arm64 | OK | OK | OK | ![]() | |||||||||||
Package 4/6 | Hostname | OS / Arch | INSTALL | BUILD | BUILD BIN | ||||||||||||
sangeranalyseR 1.8.0 (landing page) Kuan-Hao Chao
| kjohnson | macOS 13.0 Ventura / arm64 | OK | OK | OK | ![]() | |||||||||||
Package 5/6 | Hostname | OS / Arch | INSTALL | BUILD | BUILD BIN | ||||||||||||
scifer 1.0.0 (landing page) Rodrigo Arcoverde Cerveira
| kjohnson | macOS 13.0 Ventura / arm64 | OK | OK | OK | ![]() | |||||||||||
Package 6/6 | Hostname | OS / Arch | INSTALL | BUILD | BUILD BIN | ||||||||||||
SynExtend 1.10.2 (landing page) Nicholas Cooley
| kjohnson | macOS 13.0 Ventura / arm64 | OK | OK | OK | ![]() | |||||||||||