Package: DEqMS Version: 1.16.0 Command: /Library/Frameworks/R.framework/Resources/bin/R CMD build --keep-empty-dirs --no-resave-data DEqMS StartedAt: 2023-04-17 03:44:56 -0400 (Mon, 17 Apr 2023) EndedAt: 2023-04-17 03:45:06 -0400 (Mon, 17 Apr 2023) EllapsedTime: 9.7 seconds RetCode: 1 Status: ERROR PackageFile: None PackageFileSize: NA