git_url: https://git.bioconductor.org/packages/DNAcopy git_branch: RELEASE_3_16 git_last_commit: 29b7915 git_last_commit_date: 2023-01-19 11:16:15 -0400 (Thu, 19 Jan 2023) Package: DNAcopy Version: 1.72.3 Maintainer: Venkatraman E. Seshan MaintainerEmail: seshanv at mskcc.org