Package: DNAfusion Version: 1.0.0 Command: /Library/Frameworks/R.framework/Resources/bin/R CMD build --keep-empty-dirs --no-resave-data DNAfusion StartedAt: 2023-04-17 04:27:36 -0400 (Mon, 17 Apr 2023) EndedAt: 2023-04-17 04:28:21 -0400 (Mon, 17 Apr 2023) EllapsedTime: 45.2 seconds RetCode: 0 Status: OK PackageFile: DNAfusion_1.0.0.tar.gz PackageFileSize: 335.6 KiB