Package: DNAfusion
Version: 1.0.0
Command: /Library/Frameworks/R.framework/Resources/bin/R CMD INSTALL DNAfusion
StartedAt: 2023-04-16 16:05:13 -0400 (Sun, 16 Apr 2023)
EndedAt: 2023-04-16 16:05:47 -0400 (Sun, 16 Apr 2023)
EllapsedTime: 34.1 seconds
RetCode: 0
Status: OK