Package: DOSE Version: 3.24.2 Command: /Library/Frameworks/R.framework/Resources/bin/R CMD build --keep-empty-dirs --no-resave-data DOSE StartedAt: 2023-04-17 04:33:46 -0400 (Mon, 17 Apr 2023) EndedAt: 2023-04-17 04:34:30 -0400 (Mon, 17 Apr 2023) EllapsedTime: 44.2 seconds RetCode: 0 Status: OK PackageFile: DOSE_3.24.2.tar.gz PackageFileSize: 6.408 MiB